BEGIN:VCALENDAR
VERSION:2.0
PRODID:-//A.N.A. Modena - ECPv6.5.1.5//NONSGML v1.0//EN
CALSCALE:GREGORIAN
METHOD:PUBLISH
X-ORIGINAL-URL:https://anamodena.it
X-WR-CALDESC:Eventi per A.N.A. Modena
REFRESH-INTERVAL;VALUE=DURATION:PT1H
X-Robots-Tag:noindex
X-PUBLISHED-TTL:PT1H
BEGIN:VTIMEZONE
TZID:Europe/Rome
BEGIN:DAYLIGHT
TZOFFSETFROM:+0100
TZOFFSETTO:+0200
TZNAME:CEST
DTSTART:20230326T010000
END:DAYLIGHT
BEGIN:STANDARD
TZOFFSETFROM:+0200
TZOFFSETTO:+0100
TZNAME:CET
DTSTART:20231029T010000
END:STANDARD
BEGIN:DAYLIGHT
TZOFFSETFROM:+0100
TZOFFSETTO:+0200
TZNAME:CEST
DTSTART:20240331T010000
END:DAYLIGHT
BEGIN:STANDARD
TZOFFSETFROM:+0200
TZOFFSETTO:+0100
TZNAME:CET
DTSTART:20241027T010000
END:STANDARD
END:VTIMEZONE
BEGIN:VEVENT
DTSTART;VALUE=DATE:20240414
DTEND;VALUE=DATE:20240415
DTSTAMP:20260425T183936
CREATED:20231115T084455Z
LAST-MODIFIED:20231115T084455Z
UID:10000070-1713052800-1713139199@anamodena.it
SUMMARY:Festa del Gruppo Alpini di Sassuolo
DESCRIPTION:90° anniversario della sede
URL:https://anamodena.it/evento/festa-del-gruppo-alpini-di-sassuolo/
LOCATION:Sassuolo
END:VEVENT
BEGIN:VEVENT
DTSTART;VALUE=DATE:20240406
DTEND;VALUE=DATE:20240407
DTSTAMP:20260425T183936
CREATED:20240201T100039Z
LAST-MODIFIED:20240201T100039Z
UID:10000088-1712361600-1712447999@anamodena.it
SUMMARY:Cantieri Giovani Protec
DESCRIPTION:
URL:https://anamodena.it/evento/cantieri-giovani-protec/
LOCATION:Sassuolo
END:VEVENT
BEGIN:VEVENT
DTSTART;VALUE=DATE:20230416
DTEND;VALUE=DATE:20230417
DTSTAMP:20260425T183936
CREATED:20230829T103950Z
LAST-MODIFIED:20230829T103950Z
UID:10000044-1681603200-1681689599@anamodena.it
SUMMARY:Festa Gruppo Alpini Sassuolo
DESCRIPTION:
URL:https://anamodena.it/evento/festa-gruppo-alpini-sassuolo/
LOCATION:Sassuolo
END:VEVENT
END:VCALENDAR