BEGIN:VCALENDAR
VERSION:2.0
PRODID:-//A.N.A. Modena - ECPv6.5.1.5//NONSGML v1.0//EN
CALSCALE:GREGORIAN
METHOD:PUBLISH
X-WR-CALNAME:A.N.A. Modena
X-ORIGINAL-URL:https://anamodena.it
X-WR-CALDESC:Eventi per A.N.A. Modena
REFRESH-INTERVAL;VALUE=DURATION:PT1H
X-Robots-Tag:noindex
X-PUBLISHED-TTL:PT1H
BEGIN:VTIMEZONE
TZID:Europe/Rome
BEGIN:DAYLIGHT
TZOFFSETFROM:+0100
TZOFFSETTO:+0200
TZNAME:CEST
DTSTART:20230326T010000
END:DAYLIGHT
BEGIN:STANDARD
TZOFFSETFROM:+0200
TZOFFSETTO:+0100
TZNAME:CET
DTSTART:20231029T010000
END:STANDARD
BEGIN:DAYLIGHT
TZOFFSETFROM:+0100
TZOFFSETTO:+0200
TZNAME:CEST
DTSTART:20240331T010000
END:DAYLIGHT
BEGIN:STANDARD
TZOFFSETFROM:+0200
TZOFFSETTO:+0100
TZNAME:CET
DTSTART:20241027T010000
END:STANDARD
BEGIN:DAYLIGHT
TZOFFSETFROM:+0100
TZOFFSETTO:+0200
TZNAME:CEST
DTSTART:20250330T010000
END:DAYLIGHT
BEGIN:STANDARD
TZOFFSETFROM:+0200
TZOFFSETTO:+0100
TZNAME:CET
DTSTART:20251026T010000
END:STANDARD
END:VTIMEZONE
BEGIN:VEVENT
DTSTART;TZID=Europe/Rome:20250824T080000
DTEND;TZID=Europe/Rome:20250824T170000
DTSTAMP:20260425T170850
CREATED:20250731T065543Z
LAST-MODIFIED:20250731T065543Z
UID:10000157-1756022400-1756054800@anamodena.it
SUMMARY:Festa Alpini Polinago
DESCRIPTION:
URL:https://anamodena.it/evento/festa-alpini-polinago/
LOCATION:Polinago\, Polinago
END:VEVENT
BEGIN:VEVENT
DTSTART;VALUE=DATE:20240825
DTEND;VALUE=DATE:20240826
DTSTAMP:20260425T170850
CREATED:20240724T094525Z
LAST-MODIFIED:20240724T094525Z
UID:10000109-1724544000-1724630399@anamodena.it
SUMMARY:Festa del gruppo di Polinago
DESCRIPTION:
URL:https://anamodena.it/evento/festa-del-gruppo-di-polinago/
LOCATION:Polinago\, Polinago
END:VEVENT
BEGIN:VEVENT
DTSTART;TZID=Europe/Rome:20240517T203000
DTEND;TZID=Europe/Rome:20240517T223000
DTSTAMP:20260425T170850
CREATED:20240510T123932Z
LAST-MODIFIED:20240510T123932Z
UID:10000094-1715977800-1715985000@anamodena.it
SUMMARY:Pura Bici
DESCRIPTION:Katia Ganzerli e Raffaele Bedostri raccontano la loro esperienza attraverso le Americhe da Ushuaia in Argentina a Fairbanks in Alaska\, 15000 km in bicicletta e almeno altri 10000 con altri mezzi. Nessun record da battere ma tanto mondo da vedere\, luoghi meravigliosi e incontri che rimangono nel cuore.\nA Polinago il 17 maggio 2024 ore 20\,30 presso la sede degli alpini in via dell’artigianato 7
URL:https://anamodena.it/evento/pura-bici/
LOCATION:Polinago\, Polinago
END:VEVENT
BEGIN:VEVENT
DTSTART;VALUE=DATE:20230827
DTEND;VALUE=DATE:20230828
DTSTAMP:20260425T170850
CREATED:20230829T100739Z
LAST-MODIFIED:20230829T100739Z
UID:10000024-1693094400-1693180799@anamodena.it
SUMMARY:Festa del Gruppo Alpini di Polinago - Centenario
DESCRIPTION:
URL:https://anamodena.it/evento/festa-del-gruppo-alpini-di-polinago-centenario/
LOCATION:Polinago\, Polinago
END:VEVENT
END:VCALENDAR