BEGIN:VCALENDAR
VERSION:2.0
PRODID:-//A.N.A. Modena - ECPv6.5.1.5//NONSGML v1.0//EN
CALSCALE:GREGORIAN
METHOD:PUBLISH
X-ORIGINAL-URL:https://anamodena.it
X-WR-CALDESC:Eventi per A.N.A. Modena
REFRESH-INTERVAL;VALUE=DURATION:PT1H
X-Robots-Tag:noindex
X-PUBLISHED-TTL:PT1H
BEGIN:VTIMEZONE
TZID:Europe/Rome
BEGIN:DAYLIGHT
TZOFFSETFROM:+0100
TZOFFSETTO:+0200
TZNAME:CEST
DTSTART:20230326T010000
END:DAYLIGHT
BEGIN:STANDARD
TZOFFSETFROM:+0200
TZOFFSETTO:+0100
TZNAME:CET
DTSTART:20231029T010000
END:STANDARD
END:VTIMEZONE
BEGIN:VEVENT
DTSTART;TZID=Europe/Rome:20231013T080000
DTEND;TZID=Europe/Rome:20231013T170000
DTSTAMP:20260420T120003
CREATED:20230922T144925Z
LAST-MODIFIED:20230922T145326Z
UID:10000048-1697184000-1697216400@anamodena.it
SUMMARY:Adunata Alpini 2° Raggruppamento
DESCRIPTION:Programma invito Lodi 2023 (1) \nGli Alpini della Lombardia e dell’Emilia Romagna si ritrovano a Lodi il 14 e il 15 ottobre
URL:https://anamodena.it/evento/adunata-alpini-2-raggruppamento/2023-10-13/
LOCATION:Lodi (MI)
END:VEVENT
END:VCALENDAR