BEGIN:VCALENDAR
VERSION:2.0
PRODID:-//A.N.A. Modena - ECPv6.5.1.5//NONSGML v1.0//EN
CALSCALE:GREGORIAN
METHOD:PUBLISH
X-WR-CALNAME:A.N.A. Modena
X-ORIGINAL-URL:https://anamodena.it
X-WR-CALDESC:Eventi per A.N.A. Modena
REFRESH-INTERVAL;VALUE=DURATION:PT1H
X-Robots-Tag:noindex
X-PUBLISHED-TTL:PT1H
BEGIN:VTIMEZONE
TZID:Europe/Rome
BEGIN:DAYLIGHT
TZOFFSETFROM:+0100
TZOFFSETTO:+0200
TZNAME:CEST
DTSTART:20250330T010000
END:DAYLIGHT
BEGIN:STANDARD
TZOFFSETFROM:+0200
TZOFFSETTO:+0100
TZNAME:CET
DTSTART:20251026T010000
END:STANDARD
END:VTIMEZONE
BEGIN:VEVENT
DTSTART;VALUE=DATE:20250509
DTEND;VALUE=DATE:20250512
DTSTAMP:20260425T050413
CREATED:20250219T081334Z
LAST-MODIFIED:20250219T081334Z
UID:10000136-1746748800-1747007999@anamodena.it
SUMMARY:Adunata Nazionale Alpini
DESCRIPTION:
URL:https://anamodena.it/evento/adunata-nazionale-alpini/
END:VEVENT
BEGIN:VEVENT
DTSTART;VALUE=DATE:20250524
DTEND;VALUE=DATE:20250525
DTSTAMP:20260425T050413
CREATED:20250219T081445Z
LAST-MODIFIED:20250219T081445Z
UID:10000137-1748044800-1748131199@anamodena.it
SUMMARY:Festa del Cristo
DESCRIPTION:
URL:https://anamodena.it/evento/festa-del-cristo-3/
LOCATION:Torre Maina
END:VEVENT
BEGIN:VEVENT
DTSTART;VALUE=DATE:20250524
DTEND;VALUE=DATE:20250525
DTSTAMP:20260425T050413
CREATED:20250219T081614Z
LAST-MODIFIED:20250219T081614Z
UID:10000138-1748044800-1748131199@anamodena.it
SUMMARY:Assemblea dei Delegati Nazionali
DESCRIPTION:
URL:https://anamodena.it/evento/assemblea-dei-delegati-nazionali-2/
LOCATION:Milano\, Milano\, Italia
END:VEVENT
BEGIN:VEVENT
DTSTART;VALUE=DATE:20250531
DTEND;VALUE=DATE:20250602
DTSTAMP:20260425T050413
CREATED:20250219T081750Z
LAST-MODIFIED:20250219T081750Z
UID:10000139-1748649600-1748822399@anamodena.it
SUMMARY:Adunata Sez. Bolognese Romagnola
DESCRIPTION:
URL:https://anamodena.it/evento/adunata-sez-bolognese-romagnola/
LOCATION:Castel San Pietro Terme (BO)
END:VEVENT
END:VCALENDAR