BEGIN:VCALENDAR
VERSION:2.0
PRODID:-//A.N.A. Modena - ECPv6.5.1.5//NONSGML v1.0//EN
CALSCALE:GREGORIAN
METHOD:PUBLISH
X-ORIGINAL-URL:https://anamodena.it
X-WR-CALDESC:Eventi per A.N.A. Modena
REFRESH-INTERVAL;VALUE=DURATION:PT1H
X-Robots-Tag:noindex
X-PUBLISHED-TTL:PT1H
BEGIN:VTIMEZONE
TZID:Europe/Rome
BEGIN:DAYLIGHT
TZOFFSETFROM:+0100
TZOFFSETTO:+0200
TZNAME:CEST
DTSTART:20250330T010000
END:DAYLIGHT
BEGIN:STANDARD
TZOFFSETFROM:+0200
TZOFFSETTO:+0100
TZNAME:CET
DTSTART:20251026T010000
END:STANDARD
END:VTIMEZONE
BEGIN:VEVENT
DTSTART;TZID=Europe/Rome:20250405T080000
DTEND;TZID=Europe/Rome:20250405T130000
DTSTAMP:20260425T032123
CREATED:20250219T084749Z
LAST-MODIFIED:20250219T085035Z
UID:10000151-1743840000-1743858000@anamodena.it
SUMMARY:Corrimodena con l'Accademia Militare
DESCRIPTION:
URL:https://anamodena.it/evento/corrimodena-con-laccademia-militare/
LOCATION:Modena
END:VEVENT
BEGIN:VEVENT
DTSTART;TZID=Europe/Rome:20250405T080000
DTEND;TZID=Europe/Rome:20250405T170000
DTSTAMP:20260425T032123
CREATED:20250219T084537Z
LAST-MODIFIED:20250219T084537Z
UID:10000150-1743840000-1743872400@anamodena.it
SUMMARY:Pulizia Parco Spezzano
DESCRIPTION:
URL:https://anamodena.it/evento/pulizia-parco-spezzano/
LOCATION:Castello di Spezzano
END:VEVENT
BEGIN:VEVENT
DTSTART;VALUE=DATE:20250412
DTEND;VALUE=DATE:20250413
DTSTAMP:20260425T032123
CREATED:20250219T081214Z
LAST-MODIFIED:20250219T081214Z
UID:10000135-1744416000-1744502399@anamodena.it
SUMMARY:Pasqua dell'Alpino
DESCRIPTION:
URL:https://anamodena.it/evento/pasqua-dellalpino-3/
LOCATION:Santuario di Puianello
END:VEVENT
END:VCALENDAR