BEGIN:VCALENDAR
VERSION:2.0
PRODID:-//A.N.A. Modena - ECPv6.5.1.5//NONSGML v1.0//EN
CALSCALE:GREGORIAN
METHOD:PUBLISH
X-ORIGINAL-URL:https://anamodena.it
X-WR-CALDESC:Eventi per A.N.A. Modena
REFRESH-INTERVAL;VALUE=DURATION:PT1H
X-Robots-Tag:noindex
X-PUBLISHED-TTL:PT1H
BEGIN:VTIMEZONE
TZID:Europe/Rome
BEGIN:DAYLIGHT
TZOFFSETFROM:+0100
TZOFFSETTO:+0200
TZNAME:CEST
DTSTART:20250330T010000
END:DAYLIGHT
BEGIN:STANDARD
TZOFFSETFROM:+0200
TZOFFSETTO:+0100
TZNAME:CET
DTSTART:20251026T010000
END:STANDARD
END:VTIMEZONE
BEGIN:VEVENT
DTSTART;VALUE=DATE:20250302
DTEND;VALUE=DATE:20250303
DTSTAMP:20260425T013621
CREATED:20250219T080425Z
LAST-MODIFIED:20250219T080425Z
UID:10000131-1740873600-1740959999@anamodena.it
SUMMARY:Festa sulla Neve
DESCRIPTION:
URL:https://anamodena.it/evento/festa-sulla-neve-2/
LOCATION:Piane di Mocogno
END:VEVENT
BEGIN:VEVENT
DTSTART;VALUE=DATE:20250308
DTEND;VALUE=DATE:20250310
DTSTAMP:20260425T013621
CREATED:20250219T080643Z
LAST-MODIFIED:20250219T080643Z
UID:10000132-1741392000-1741564799@anamodena.it
SUMMARY:Campionati ANA sci slalom
DESCRIPTION:
URL:https://anamodena.it/evento/campionati-ana-sci-slalom/
LOCATION:Domobianca (VB)
END:VEVENT
BEGIN:VEVENT
DTSTART;VALUE=DATE:20250315
DTEND;VALUE=DATE:20250316
DTSTAMP:20260425T013621
CREATED:20250219T080931Z
LAST-MODIFIED:20250219T080931Z
UID:10000133-1741996800-1742083199@anamodena.it
SUMMARY:Consiglio Direttivo Nazionale
DESCRIPTION:
URL:https://anamodena.it/evento/consiglio-direttivo-nazionale/
LOCATION:Accademia Militare di Modena
END:VEVENT
BEGIN:VEVENT
DTSTART;TZID=Europe/Rome:20250323T080000
DTEND;TZID=Europe/Rome:20250323T170000
DTSTAMP:20260425T013621
CREATED:20250219T083233Z
LAST-MODIFIED:20250219T083233Z
UID:10000148-1742716800-1742749200@anamodena.it
SUMMARY:Assemblea dei Volontari Protezione Civile ANA Modena
DESCRIPTION:
URL:https://anamodena.it/evento/assemblea-dei-volontari-protezione-civile-ana-modena-2/
LOCATION:Bocciodromo Castelvetro (MO)\, Via Costituzione\, 18\, Castelvetro\, 41014\, Italia
END:VEVENT
BEGIN:VEVENT
DTSTART;TZID=Europe/Rome:20250330T080000
DTEND;TZID=Europe/Rome:20250330T170000
DTSTAMP:20260425T013621
CREATED:20250219T084414Z
LAST-MODIFIED:20250219T084414Z
UID:10000149-1743321600-1743354000@anamodena.it
SUMMARY:Maratona d'Italia
DESCRIPTION:
URL:https://anamodena.it/evento/maratona-ditalia/
LOCATION:Modena\, Maranello\, Formigine e Fiorano
END:VEVENT
END:VCALENDAR