BEGIN:VCALENDAR
VERSION:2.0
PRODID:-//A.N.A. Modena - ECPv6.5.1.5//NONSGML v1.0//EN
CALSCALE:GREGORIAN
METHOD:PUBLISH
X-ORIGINAL-URL:https://anamodena.it
X-WR-CALDESC:Eventi per A.N.A. Modena
REFRESH-INTERVAL;VALUE=DURATION:PT1H
X-Robots-Tag:noindex
X-PUBLISHED-TTL:PT1H
BEGIN:VTIMEZONE
TZID:Europe/Rome
BEGIN:DAYLIGHT
TZOFFSETFROM:+0100
TZOFFSETTO:+0200
TZNAME:CEST
DTSTART:20250330T010000
END:DAYLIGHT
BEGIN:STANDARD
TZOFFSETFROM:+0200
TZOFFSETTO:+0100
TZNAME:CET
DTSTART:20251026T010000
END:STANDARD
END:VTIMEZONE
BEGIN:VEVENT
DTSTART;VALUE=DATE:20250509
DTEND;VALUE=DATE:20250512
DTSTAMP:20260425T063357
CREATED:20250219T081334Z
LAST-MODIFIED:20250219T081334Z
UID:10000136-1746748800-1747007999@anamodena.it
SUMMARY:Adunata Nazionale Alpini
DESCRIPTION:
URL:https://anamodena.it/evento/adunata-nazionale-alpini/
END:VEVENT
END:VCALENDAR