BEGIN:VCALENDAR
VERSION:2.0
PRODID:-//A.N.A. Modena - ECPv6.5.1.5//NONSGML v1.0//EN
CALSCALE:GREGORIAN
METHOD:PUBLISH
X-WR-CALNAME:A.N.A. Modena
X-ORIGINAL-URL:https://anamodena.it
X-WR-CALDESC:Eventi per A.N.A. Modena
REFRESH-INTERVAL;VALUE=DURATION:PT1H
X-Robots-Tag:noindex
X-PUBLISHED-TTL:PT1H
BEGIN:VTIMEZONE
TZID:Europe/Rome
BEGIN:DAYLIGHT
TZOFFSETFROM:+0100
TZOFFSETTO:+0200
TZNAME:CEST
DTSTART:20240331T010000
END:DAYLIGHT
BEGIN:STANDARD
TZOFFSETFROM:+0200
TZOFFSETTO:+0100
TZNAME:CET
DTSTART:20241027T010000
END:STANDARD
END:VTIMEZONE
BEGIN:VEVENT
DTSTART;VALUE=DATE:20241215
DTEND;VALUE=DATE:20241216
DTSTAMP:20260421T204205
CREATED:20241024T074026Z
LAST-MODIFIED:20241209T081407Z
UID:10000128-1734220800-1734307199@anamodena.it
SUMMARY:Santa Messa a Milano
DESCRIPTION:COMUNICATO STAMPA \nDOVE: MILANO – DUOMO E VIE DEL CENTRO SINO A PIAZZA SANT’AMBROGIO \nQUANDO: MATTINA DI DOMENICA 15 DICEMBRE 2024 \nEVENTO: S. MESSA DI NATALE DEGLI ALPINI IN SUFFRAGIO DEI CADUTI \nDomenica 15 dicembre ci sarà il tradizionale appuntamento per la S. Messa di Natale nel Duomo di Milano\, voluta da Peppino Prisco negli anni 50 a ricordo degli Alpini e dei Caduti in guerra e in pace. L’appuntamento per gli Alpini è fissato per le ore 8:15 in Piazza della Scala. La parte ufficiale inizierà alle 9:00 in Piazza del Duomo con l’alzabandiera e alle 9.30 verrà celebrata la S. Messa in Cattedrale che sarà officiata dal Vicario generale di Milano Mons. Franco Agnesi e verrà accompagnata dal Coro ANA Milano. Al termine della cerimonia religiosa\, alle 10:30 saranno tenuti i discorsi ufficiali sul sagrato; seguirà un corteo per le vie del centro fino al Sacrario ai Caduti di Piazza Sant’Ambrogio\, ove verso le 11:40 verrà deposta una corona d’alloro. È prevista la presenza dei Gonfaloni e dei più alti rappresentanti di Regione Lombardia\, della Città Metropolitana di Milano\, del Comune di Milano e dei Comuni sede dei Gruppi Alpini della Sezione ANA di Milano. Saranno presenti autorità civili e militari\, un picchetto armato del 3° Reggimento Alpini di Pinerolo con la Fanfara della Brigata Alpina “Taurinense” e alcune migliaia di Alpini provenienti da tutta Italia in rappresentanza delle Sezioni e dei Gruppi dell’Associazione Nazionale Alpini. Il corteo sarà accompagnato dai tamburi della Scuola Militare Teulié di Milano\, dalle Fanfare alpine “Del Centenario” della Sezione ANA di Milano e “Cap. Piercarlo Cattaneo” di Magenta e dalle cornamuse dell’ANA Pipe Band. Invitiamo tutti i cittadini milanesi\, soprattutto coloro che hanno portato il cappello alpino\, a partecipare a questo momento della preparazione al Natale\, caratterizzato da un valore morale e patriottico altamente significativo. Altre informazioni sono a disposizione sul sito Internet della Sezione ANA di Milano www.milano.ana.it. \nIl Presidente della Sezione ANA di Milano Valerio Fusar Imperatore \n 
URL:https://anamodena.it/evento/santa-messa-a-milano/
LOCATION:Duomo di Milano\, Milano\, Italia
END:VEVENT
END:VCALENDAR