BEGIN:VCALENDAR
VERSION:2.0
PRODID:-//A.N.A. Modena - ECPv6.5.1.5//NONSGML v1.0//EN
CALSCALE:GREGORIAN
METHOD:PUBLISH
X-ORIGINAL-URL:https://anamodena.it
X-WR-CALDESC:Eventi per A.N.A. Modena
REFRESH-INTERVAL;VALUE=DURATION:PT1H
X-Robots-Tag:noindex
X-PUBLISHED-TTL:PT1H
BEGIN:VTIMEZONE
TZID:Europe/Rome
BEGIN:DAYLIGHT
TZOFFSETFROM:+0100
TZOFFSETTO:+0200
TZNAME:CEST
DTSTART:20240331T010000
END:DAYLIGHT
BEGIN:STANDARD
TZOFFSETFROM:+0200
TZOFFSETTO:+0100
TZNAME:CET
DTSTART:20241027T010000
END:STANDARD
END:VTIMEZONE
BEGIN:VEVENT
DTSTART;TZID=Europe/Rome:20241110T090000
DTEND;TZID=Europe/Rome:20241110T143000
DTSTAMP:20260421T190836
CREATED:20241024T073203Z
LAST-MODIFIED:20241024T073203Z
UID:10000125-1731229200-1731249000@anamodena.it
SUMMARY:Riunione dei Capigruppo Sezione di Modena
DESCRIPTION:Il giorno 10 Novembre a Monte obizzo di Pavullo si terrà la riunione dei Capigruppo della Sezione di Modena
URL:https://anamodena.it/evento/riunione-dei-capigruppo-sezione-di-modena-2/
LOCATION:Monte Obizzo\, Pavullo
END:VEVENT
END:VCALENDAR